BEGIN:VCALENDAR
VERSION:2.0
PRODID:-//DiscGolfScene//NONSGML v1.0//EN
BEGIN:VEVENT
UID:tournaments.112190@discgolfscene.com
DTSTAMP:20260424T203238Z
DTSTART;TZID=America/Chicago:20260531T080000
DTEND;TZID=America/Chicago:20260531T180000
SUMMARY:Survive the Shank
DESCRIPTION:Start of Survive the Shank.\n\nDates and times are subject to change. Please visit https://www.discgolfscene.com/tournaments/Survive_the_Shank_2026 for updates and changes to the schedule.
URL:https://www.discgolfscene.com/tournaments/Survive_the_Shank_2026
LOCATION:Mississippi Park Disc Golf Course\nHampton\, IL\, 61256\, United States
END:VEVENT
END:VCALENDAR