BEGIN:VCALENDAR
VERSION:2.0
PRODID:-//DiscGolfScene//NONSGML v1.0//EN
BEGIN:VEVENT
UID:tournaments.112168@discgolfscene.com
DTSTAMP:20260424T170638Z
DTSTART;TZID=Europe/London:20260822T080000
DTEND;TZID=Europe/London:20260822T180000
SUMMARY:Innova Replay Guanajuato México 
DESCRIPTION:Start of Innova Replay Guanajuato México .\n\nDates and times are subject to change. Please visit https://www.discgolfscene.com/tournaments/Innova_Replay_Guanajuato_Mexico_2026 for updates and changes to the schedule.
URL:https://www.discgolfscene.com/tournaments/Innova_Replay_Guanajuato_Mexico_2026
LOCATION:El Hormiguero\nGuanajuato\, Mexico
END:VEVENT
END:VCALENDAR