BEGIN:VCALENDAR
VERSION:2.0
PRODID:-//DiscGolfScene//NONSGML v1.0//EN
BEGIN:VEVENT
UID:tournaments.112078@discgolfscene.com
DTSTAMP:20260421T111204Z
DTSTART;TZID=America/New_York:20261128T173000
DTEND;TZID=America/New_York:20261128T180000
SUMMARY:chrispdiscs MVP SPACE RACE @ Bobby G
DESCRIPTION:Start of chrispdiscs MVP SPACE RACE @ Bobby G.\n\nDates and times are subject to change. Please visit https://www.discgolfscene.com/tournaments/chrispdiscs_MVP_SPACE_RACE_at_Bobby_G_2026 for updates and changes to the schedule.
URL:https://www.discgolfscene.com/tournaments/chrispdiscs_MVP_SPACE_RACE_at_Bobby_G_2026
LOCATION:Bob Gardner Park\nLakewood Ranch\, FL\, 34211\, United States
END:VEVENT
END:VCALENDAR