BEGIN:VCALENDAR
VERSION:2.0
PRODID:-//DiscGolfScene//NONSGML v1.0//EN
BEGIN:VEVENT
UID:tournaments.111874@discgolfscene.com
DTSTAMP:20260421T223626Z
DTSTART;TZID=America/Los_Angeles:20260523T080000
DTEND;TZID=America/Los_Angeles:20260523T180000
SUMMARY:2026 Glitch World Championship at Camp Taloali
DESCRIPTION:Start of 2026 Glitch World Championship at Camp Taloali.\n\nDates and times are subject to change. Please visit https://www.discgolfscene.com/tournaments/2026_Glitch_World_Championship_at_Camp_Taloali for updates and changes to the schedule.
URL:https://www.discgolfscene.com/tournaments/2026_Glitch_World_Championship_at_Camp_Taloali
LOCATION:Camp Taloali\n15934 N. Santiam Hwy. SE\, Stayton\, OR\, 97383\, United States
END:VEVENT
END:VCALENDAR