BEGIN:VCALENDAR
VERSION:2.0
PRODID:-//DiscGolfScene//NONSGML v1.0//EN
BEGIN:VEVENT
UID:tournaments.111853@discgolfscene.com
DTSTAMP:20260422T222514Z
DTSTART;TZID=America/New_York:20260523T080000
DTEND;TZID=America/New_York:20260523T180000
SUMMARY:Chain Reactions USDGC Doubles Qualifier @Nevin
DESCRIPTION:Start of Chain Reactions USDGC Doubles Qualifier @Nevin.\n\nDates and times are subject to change. Please visit https://www.discgolfscene.com/tournaments/Chain_Reactions_USDGC_Doubles_Qualifier_atNevin_2026 for updates and changes to the schedule.
URL:https://www.discgolfscene.com/tournaments/Chain_Reactions_USDGC_Doubles_Qualifier_atNevin_2026
LOCATION:Nevin Park\n6000 Statesville Rd.\, Charlotte\, NC\, 28269\, United States
END:VEVENT
END:VCALENDAR