BEGIN:VCALENDAR
VERSION:2.0
PRODID:-//DiscGolfScene//NONSGML v1.0//EN
BEGIN:VEVENT
UID:tournaments.111657@discgolfscene.com
DTSTAMP:20260419T211108Z
DTSTART;TZID=America/Los_Angeles:20260815T090000
DTEND;TZID=America/Los_Angeles:20260815T180000
SUMMARY:2026 Plumas Series - Event #5
DESCRIPTION:Start of 2026 Plumas Series - Event #5.\n\nDates and times are subject to change. Please visit https://www.discgolfscene.com/tournaments/2026_Plumas_Series_Event_5 for updates and changes to the schedule.
URL:https://www.discgolfscene.com/tournaments/2026_Plumas_Series_Event_5
LOCATION:Pioneer DGC\n1300 Pioneer Rd.\, Quincy\, CA\, 95971\, United States
END:VEVENT
END:VCALENDAR