BEGIN:VCALENDAR
VERSION:2.0
PRODID:-//DiscGolfScene//NONSGML v1.0//EN
BEGIN:VEVENT
UID:tournaments.111656@discgolfscene.com
DTSTAMP:20260419T211109Z
DTSTART;TZID=America/Los_Angeles:20260718T090000
DTEND;TZID=America/Los_Angeles:20260718T180000
SUMMARY:2026 Plumas Series - Event #4
DESCRIPTION:Start of 2026 Plumas Series - Event #4.\n\nDates and times are subject to change. Please visit https://www.discgolfscene.com/tournaments/2026_Plumas_Series_Event_4 for updates and changes to the schedule.
URL:https://www.discgolfscene.com/tournaments/2026_Plumas_Series_Event_4
LOCATION:Pioneer DGC\n1300 Pioneer Rd.\, Quincy\, CA\, 95971\, United States
END:VEVENT
END:VCALENDAR