BEGIN:VCALENDAR
VERSION:2.0
PRODID:-//DiscGolfScene//NONSGML v1.0//EN
BEGIN:VEVENT
UID:tournaments.111602@discgolfscene.com
DTSTAMP:20260421T123321Z
DTSTART;TZID=America/Denver:20260516T080000
DTEND;TZID=America/Denver:20260516T180000
SUMMARY:Par Brother's Open II, Powered by Innova Discs, Hosted by The Kabal
DESCRIPTION:Start of Par Brother's Open II, Powered by Innova Discs, Hosted by The Kabal.\n\nDates and times are subject to change. Please visit https://www.discgolfscene.com/tournaments/Par_Brothers_Open_II_Powered_by_Innova_Discs_Hosted_by_The_Kabal_2026 for updates and changes to the schedule.
URL:https://www.discgolfscene.com/tournaments/Par_Brothers_Open_II_Powered_by_Innova_Discs_Hosted_by_The_Kabal_2026
LOCATION:Hobbs Army Airfield\nHobbs\, NM\, 88240\, United States
END:VEVENT
END:VCALENDAR