BEGIN:VCALENDAR
VERSION:2.0
PRODID:-//DiscGolfScene//NONSGML v1.0//EN
BEGIN:VEVENT
UID:tournaments.111536@discgolfscene.com
DTSTAMP:20260421T094949Z
DTSTART;TZID=America/Denver:20260610T173000
DTEND;TZID=America/Denver:20260610T180000
SUMMARY:LPDGC Summer League Week #8 - Pool B
DESCRIPTION:Start of LPDGC Summer League Week #8 - Pool B.\n\nDates and times are subject to change. Please visit https://www.discgolfscene.com/tournaments/LPDGC_Summer_League_Week_8_Pool_B_2026 for updates and changes to the schedule.
URL:https://www.discgolfscene.com/tournaments/LPDGC_Summer_League_Week_8_Pool_B_2026
LOCATION:Wildcat Ridge at Westview Middle School\nLongmont\, CO\, 80503\, United States
END:VEVENT
END:VCALENDAR