BEGIN:VCALENDAR
VERSION:2.0
PRODID:-//DiscGolfScene//NONSGML v1.0//EN
BEGIN:VEVENT
UID:tournaments.111420@discgolfscene.com
DTSTAMP:20260420T165921Z
DTSTART;TZID=Europe/London:20260726T080000
DTEND;TZID=Europe/London:20260726T180000
SUMMARY:SEW Charity Flex 2: Discs for Diapers
DESCRIPTION:Start of SEW Charity Flex 2: Discs for Diapers.\n\nDates and times are subject to change. Please visit https://www.discgolfscene.com/tournaments/SEW_Charity_Flex_2_Discs_for_Diapers_2026 for updates and changes to the schedule.
URL:https://www.discgolfscene.com/tournaments/SEW_Charity_Flex_2_Discs_for_Diapers_2026
LOCATION:SEWFit\nLyman\, SC\, 29363\, United States
END:VEVENT
END:VCALENDAR