BEGIN:VCALENDAR
VERSION:2.0
PRODID:-//DiscGolfScene//NONSGML v1.0//EN
BEGIN:VEVENT
UID:tournaments.111289@discgolfscene.com
DTSTAMP:20260419T121757Z
DTSTART;TZID=America/Chicago:20260530T080000
DTEND;TZID=America/Chicago:20260530T180000
SUMMARY:The Open at Mahr
DESCRIPTION:Start of The Open at Mahr.\n\nDates and times are subject to change. Please visit https://www.discgolfscene.com/tournaments/The_Open_at_Mahr_2026 for updates and changes to the schedule.
URL:https://www.discgolfscene.com/tournaments/The_Open_at_Mahr_2026
LOCATION:Mahr Park\nMadisonville\, KY\, 42431\, United States
END:VEVENT
END:VCALENDAR