BEGIN:VCALENDAR
VERSION:2.0
PRODID:-//DiscGolfScene//NONSGML v1.0//EN
BEGIN:VEVENT
UID:tournaments.111114@discgolfscene.com
DTSTAMP:20260422T181134Z
DTSTART;TZID=America/New_York:20260502T080000
DTEND;TZID=America/New_York:20260502T180000
SUMMARY:Chain Reactions Spring Series #3 (Y5) @Scrapyard - Driven by INNOVA
DESCRIPTION:Start of Chain Reactions Spring Series #3 (Y5) @Scrapyard - Driven by INNOVA.\n\nDates and times are subject to change. Please visit https://www.discgolfscene.com/tournaments/Chain_Reactions_Spring_Series_3_Y5_atScrapyard_Driven_by_INNOVA_2026 for updates and changes to the schedule.
URL:https://www.discgolfscene.com/tournaments/Chain_Reactions_Spring_Series_3_Y5_atScrapyard_Driven_by_INNOVA_2026
LOCATION:Idlewild Park - The Scrapyard Disc Golf Course\nMatthews\, NC\, 28105\, United States
END:VEVENT
END:VCALENDAR