BEGIN:VCALENDAR
VERSION:2.0
PRODID:-//DiscGolfScene//NONSGML v1.0//EN
BEGIN:VEVENT
UID:tournaments.110436@discgolfscene.com
DTSTAMP:20260422T064934Z
DTSTART;TZID=America/Los_Angeles:20260503T060000
DTEND;TZID=America/Los_Angeles:20260503T180000
SUMMARY:TD Academy Presents - Sunflower Amateur Open
DESCRIPTION:Start of TD Academy Presents - Sunflower Amateur Open.\n\nDates and times are subject to change. Please visit https://www.discgolfscene.com/tournaments/TD_Academy_Presents_Sunflower_Amateur_Open_2026 for updates and changes to the schedule.
URL:https://www.discgolfscene.com/tournaments/TD_Academy_Presents_Sunflower_Amateur_Open_2026
LOCATION:Morley Field\nSan Diego\, CA\, 92104\, United States
END:VEVENT
END:VCALENDAR