BEGIN:VCALENDAR
VERSION:2.0
PRODID:-//DiscGolfScene//NONSGML v1.0//EN
BEGIN:VEVENT
UID:tournaments.110223@discgolfscene.com
DTSTAMP:20260424T064057Z
DTSTART;TZID=America/New_York:20260606T080000
DTEND;TZID=America/New_York:20260606T180000
SUMMARY:11th Annual HomeTeam Cash Dubs at Pine Hills DGC
DESCRIPTION:Start of 11th Annual HomeTeam Cash Dubs at Pine Hills DGC.\n\nDates and times are subject to change. Please visit https://www.discgolfscene.com/tournaments/10th_Annual_HomeTeam_Cash_Dubs_at_Pine_Hills_DGC_2026 for updates and changes to the schedule.
URL:https://www.discgolfscene.com/tournaments/10th_Annual_HomeTeam_Cash_Dubs_at_Pine_Hills_DGC_2026
LOCATION:Pine Hills DGC\n6603 Woodbury Rd\, Laingsburg\, MI\, 48848\, United States
END:VEVENT
END:VCALENDAR