BEGIN:VCALENDAR
VERSION:2.0
PRODID:-//DiscGolfScene//NONSGML v1.0//EN
BEGIN:VEVENT
UID:tournaments.109862@discgolfscene.com
DTSTAMP:20260426T040135Z
DTSTART;TZID=America/Halifax:20260808T080000
DTEND;TZID=America/Halifax:20260808T180000
SUMMARY:DGPEI Tour Stop #5 - Glenaladale
DESCRIPTION:Start of DGPEI Tour Stop #5 - Glenaladale.\n\nDates and times are subject to change. Please visit https://www.discgolfscene.com/tournaments/DGPEI_Tour_Stop_5_Glenaladale_2026 for updates and changes to the schedule.
URL:https://www.discgolfscene.com/tournaments/DGPEI_Tour_Stop_5_Glenaladale_2026
LOCATION:Glenaladale DGC\n257 Blooming Pt. Road\, Blooming Point\, PE\, m6h1g8\, Canada
END:VEVENT
END:VCALENDAR