BEGIN:VCALENDAR
VERSION:2.0
PRODID:-//DiscGolfScene//NONSGML v1.0//EN
BEGIN:VEVENT
UID:tournaments.109773@discgolfscene.com
DTSTAMP:20260424T095602Z
DTSTART;TZID=America/Denver:20260620T083000
DTEND;TZID=America/Denver:20260621T180000
SUMMARY:2026 Alberta Open
DESCRIPTION:Start of 2026 Alberta Open.\n\nDates and times are subject to change. Please visit https://www.discgolfscene.com/tournaments/Alberta_Open_2026 for updates and changes to the schedule.
URL:https://www.discgolfscene.com/tournaments/Alberta_Open_2026
LOCATION:Strathmore Disc Golf Course\nStrathmore, AB T1P 1E4\, Strathmore\, AB\, T1P1E3\, Canada
END:VEVENT
END:VCALENDAR