BEGIN:VCALENDAR
VERSION:2.0
PRODID:-//DiscGolfScene//NONSGML v1.0//EN
BEGIN:VEVENT
UID:tournaments.109314@discgolfscene.com
DTSTAMP:20260425T183046Z
DTSTART;TZID=America/New_York:20260822T073000
DTEND;TZID=America/New_York:20260822T180000
SUMMARY:Sunkissed Hills Summertime Classic 2026
DESCRIPTION:Start of Sunkissed Hills Summertime Classic 2026.\n\nDates and times are subject to change. Please visit https://www.discgolfscene.com/tournaments/Sunkissed_Hills_Summertime_Classic_2026 for updates and changes to the schedule.
URL:https://www.discgolfscene.com/tournaments/Sunkissed_Hills_Summertime_Classic_2026
LOCATION:Walter Kumer Park\nPark street Colden, NY 14033\, Colden\, NY\, 14033\, United States
END:VEVENT
END:VCALENDAR