BEGIN:VCALENDAR
VERSION:2.0
PRODID:-//DiscGolfScene//NONSGML v1.0//EN
BEGIN:VEVENT
UID:tournaments.109255@discgolfscene.com
DTSTAMP:20260420T063240Z
DTSTART;TZID=America/New_York:20260425T090000
DTEND;TZID=America/New_York:20260425T180000
SUMMARY:52 Singles Open
DESCRIPTION:Start of 52 Singles Open.\n\nDates and times are subject to change. Please visit https://www.discgolfscene.com/tournaments/52_Singles_Open_2026 for updates and changes to the schedule.
URL:https://www.discgolfscene.com/tournaments/52_Singles_Open_2026
LOCATION:Sleepy Hollow State Park\n7835 East Price Road\, Laingsburg\, MI\, 48848\, United States
END:VEVENT
END:VCALENDAR