BEGIN:VCALENDAR
VERSION:2.0
PRODID:-//DiscGolfScene//NONSGML v1.0//EN
BEGIN:VEVENT
UID:tournaments.108906@discgolfscene.com
DTSTAMP:20260419T211109Z
DTSTART;TZID=America/New_York:20260711T073000
DTEND;TZID=America/New_York:20260711T180000
SUMMARY:TreeMagnets: The Redwood Rumble 
DESCRIPTION:Start of TreeMagnets: The Redwood Rumble .\n\nDates and times are subject to change. Please visit https://www.discgolfscene.com/tournaments/TreeMagnets_The_Redwood_Rumble_2026 for updates and changes to the schedule.
URL:https://www.discgolfscene.com/tournaments/TreeMagnets_The_Redwood_Rumble_2026
LOCATION:Roland Park\n229 N. 11th St.\, Akron\, PA\, 17501\, United States
END:VEVENT
END:VCALENDAR