BEGIN:VCALENDAR
VERSION:2.0
PRODID:-//DiscGolfScene//NONSGML v1.0//EN
BEGIN:VEVENT
UID:tournaments.108871@discgolfscene.com
DTSTAMP:20260426T040130Z
DTSTART;TZID=America/Denver:20260611T080000
DTEND;TZID=America/Denver:20260611T180000
SUMMARY:Flygreen Series 2026 |  Bird's Nest Thursday Flex Presented by Innova
DESCRIPTION:Start of Flygreen Series 2026 |  Bird's Nest Thursday Flex Presented by Innova.\n\nDates and times are subject to change. Please visit https://www.discgolfscene.com/tournaments/Flygreen_Series_2026_Birds_Nest_Thursday_Flex for updates and changes to the schedule.
URL:https://www.discgolfscene.com/tournaments/Flygreen_Series_2026_Birds_Nest_Thursday_Flex
LOCATION:Bird's Nest Disc Park\n18125 W. 64th Ave.\, Arvada\, CO\, 80007\, United States
END:VEVENT
END:VCALENDAR