BEGIN:VCALENDAR
VERSION:2.0
PRODID:-//DiscGolfScene//NONSGML v1.0//EN
BEGIN:VEVENT
UID:tournaments.108796@discgolfscene.com
DTSTAMP:20260423T081501Z
DTSTART;TZID=America/Chicago:20260613T073000
DTEND;TZID=America/Chicago:20260613T180000
SUMMARY:Welcome to Funky Town
DESCRIPTION:Start of Welcome to Funky Town.\n\nDates and times are subject to change. Please visit https://www.discgolfscene.com/tournaments/Funkytown_Fling_2026 for updates and changes to the schedule.
URL:https://www.discgolfscene.com/tournaments/Funkytown_Fling_2026
LOCATION:Defunk Disco\nDefuniak Springs\, FL\, 32433\, United States
END:VEVENT
END:VCALENDAR