BEGIN:VCALENDAR
VERSION:2.0
PRODID:-//DiscGolfScene//NONSGML v1.0//EN
BEGIN:VEVENT
UID:tournaments.108211@discgolfscene.com
DTSTAMP:20260423T220401Z
DTSTART;TZID=America/Chicago:20260425T090000
DTEND;TZID=America/Chicago:20260425T180000
SUMMARY:BRP Ladies Open 2026
DESCRIPTION:Start of BRP Ladies Open 2026.\n\nDates and times are subject to change. Please visit https://www.discgolfscene.com/tournaments/BRP_Ladies_Open_2026 for updates and changes to the schedule.
URL:https://www.discgolfscene.com/tournaments/BRP_Ladies_Open_2026
LOCATION:Blue Ribbon Pines\n1901 Klondike Dr\, East Bethel\, MN\, 55011\, United States
END:VEVENT
END:VCALENDAR