BEGIN:VCALENDAR
VERSION:2.0
PRODID:-//DiscGolfScene//NONSGML v1.0//EN
BEGIN:VEVENT
UID:tournaments.107679@discgolfscene.com
DTSTAMP:20260423T071653Z
DTSTART;TZID=America/New_York:20261003T080000
DTEND;TZID=America/New_York:20261003T180000
SUMMARY:MVP Space Race @ Sunshine Village Lavender Farm
DESCRIPTION:Start of MVP Space Race @ Sunshine Village Lavender Farm.\n\nDates and times are subject to change. Please visit https://www.discgolfscene.com/tournaments/MVP_Space_Race_at_Sunshine_Village_Lavender_Farm_2026 for updates and changes to the schedule.
URL:https://www.discgolfscene.com/tournaments/MVP_Space_Race_at_Sunshine_Village_Lavender_Farm_2026
LOCATION:Sunshine Village Lavender Farm\nPittsford \, VT\, 05763\, United States
END:VEVENT
END:VCALENDAR