BEGIN:VCALENDAR
VERSION:2.0
PRODID:-//DiscGolfScene//NONSGML v1.0//EN
BEGIN:VEVENT
UID:tournaments.107434@discgolfscene.com
DTSTAMP:20260423T023005Z
DTSTART;TZID=America/New_York:20260525T073000
DTEND;TZID=America/New_York:20260525T180000
SUMMARY:Discraft Presents - The Wolf Pack Discs Open 2026
DESCRIPTION:Start of Discraft Presents - The Wolf Pack Discs Open 2026.\n\nDates and times are subject to change. Please visit https://www.discgolfscene.com/tournaments/Discraft_Presents_The_Wolf_Pack_Discs_Open_2025_2026 for updates and changes to the schedule.
URL:https://www.discgolfscene.com/tournaments/Discraft_Presents_The_Wolf_Pack_Discs_Open_2025_2026
LOCATION:Winstrom Preserve\nHolland\, MI\, 49424\, United States
END:VEVENT
END:VCALENDAR