BEGIN:VCALENDAR
VERSION:2.0
PRODID:-//DiscGolfScene//NONSGML v1.0//EN
BEGIN:VEVENT
UID:tournaments.106970@discgolfscene.com
DTSTAMP:20260424T113544Z
DTSTART;TZID=America/Chicago:20260603T100000
DTEND;TZID=America/Chicago:20260603T180000
SUMMARY:HOTT Sprinkle Valley | Austin Summer League Championships (Week 1)
DESCRIPTION:Start of HOTT Sprinkle Valley | Austin Summer League Championships (Week 1).\n\nDates and times are subject to change. Please visit https://www.discgolfscene.com/tournaments/HOTT_Summer_League_at_Sprinkle_Valley_2026 for updates and changes to the schedule.
URL:https://www.discgolfscene.com/tournaments/HOTT_Summer_League_at_Sprinkle_Valley_2026
LOCATION:Sprinkle Valley DGC\n10300 Springdale Rd\, Austin\, TX\, 78754\, United States
END:VEVENT
END:VCALENDAR