BEGIN:VCALENDAR
VERSION:2.0
PRODID:-//DiscGolfScene//NONSGML v1.0//EN
BEGIN:VEVENT
UID:tournaments.106665@discgolfscene.com
DTSTAMP:20260426T025120Z
DTSTART;TZID=America/New_York:20260516T080000
DTEND;TZID=America/New_York:20260516T180000
SUMMARY:Mountain Mayhem at Mayflower Hills, Presented by Dynamic Discs
DESCRIPTION:Start of Mountain Mayhem at Mayflower Hills, Presented by Dynamic Discs.\n\nDates and times are subject to change. Please visit https://www.discgolfscene.com/tournaments/Mountain_Mayhem_at_Mayflower_Hills_2026 for updates and changes to the schedule.
URL:https://www.discgolfscene.com/tournaments/Mountain_Mayhem_at_Mayflower_Hills_2026
LOCATION:Mayflower Hills Park\n3319 Rutrough Rd SE\, Roanoke\, VA\, 24014\, United States
END:VEVENT
END:VCALENDAR