BEGIN:VCALENDAR
VERSION:2.0
PRODID:-//DiscGolfScene//NONSGML v1.0//EN
BEGIN:VEVENT
UID:tournaments.106654@discgolfscene.com
DTSTAMP:20260426T040135Z
DTSTART;TZID=America/Denver:20260523T080000
DTEND;TZID=America/Denver:20260523T180000
SUMMARY:2026 Tunnel Runners Members Only XC-Tier #4 Taylorsville
DESCRIPTION:Start of 2026 Tunnel Runners Members Only XC-Tier #4 Taylorsville.\n\nDates and times are subject to change. Please visit https://www.discgolfscene.com/tournaments/Fiesta_Taylorsville_Tunnel_Runners_Members_Only_XC_Tier_4_2026 for updates and changes to the schedule.
URL:https://www.discgolfscene.com/tournaments/Fiesta_Taylorsville_Tunnel_Runners_Members_Only_XC_Tier_4_2026
LOCATION:Valley Regional\nSalt Lake City\, UT\, 84101\, United States
END:VEVENT
END:VCALENDAR