BEGIN:VCALENDAR
VERSION:2.0
PRODID:-//DiscGolfScene//NONSGML v1.0//EN
BEGIN:VEVENT
UID:tournaments.106558@discgolfscene.com
DTSTAMP:20260423T115654Z
DTSTART;TZID=Europe/London:20261017T130000
DTEND;TZID=Europe/London:20261017T180000
SUMMARY:7th Annual Cracked Farms Halloween Doubles
DESCRIPTION:Start of 7th Annual Cracked Farms Halloween Doubles.\n\nDates and times are subject to change. Please visit https://www.discgolfscene.com/tournaments/7th_Annual_Cracked_Farms_Halloween_Doubles_2026 for updates and changes to the schedule.
URL:https://www.discgolfscene.com/tournaments/7th_Annual_Cracked_Farms_Halloween_Doubles_2026
LOCATION:Cracked Farms \nBattle Creek, MI 49017-7618\, MI\, 49017-7618\, United States
END:VEVENT
END:VCALENDAR