BEGIN:VCALENDAR
VERSION:2.0
PRODID:-//DiscGolfScene//NONSGML v1.0//EN
BEGIN:VEVENT
UID:tournaments.103991@discgolfscene.com
DTSTAMP:20260421T143024Z
DTSTART;TZID=America/Denver:20260912T080000
DTEND;TZID=America/Denver:20260913T180000
SUMMARY:Rocky Mountain Championships - Sward Ranch
DESCRIPTION:Start of Rocky Mountain Championships - Sward Ranch.\n\nDates and times are subject to change. Please visit https://www.discgolfscene.com/tournaments/Rocky_Mountain_Championships_Swards_Ranch_2026 for updates and changes to the schedule.
URL:https://www.discgolfscene.com/tournaments/Rocky_Mountain_Championships_Swards_Ranch_2026
LOCATION:Sward's Ranch\nNorris\, MT\, 59745\, United States
END:VEVENT
END:VCALENDAR